BEGIN:VCALENDAR
VERSION:2.0
PRODID:-//Sabre//Sabre VObject 3.5.3//EN
CALSCALE:GREGORIAN
BEGIN:VTIMEZONE
TZID:Europe/London
BEGIN:STANDARD
TZNAME:GMT
DTSTART:19701025T020000
RRULE:FREQ=YEARLY;BYMONTH=10;BYDAY=-1SU
TZOFFSETFROM:+0100
TZOFFSETTO:+0000
END:STANDARD
BEGIN:DAYLIGHT
TZNAME:BST
DTSTART:19700329T010000
RRULE:FREQ=YEARLY;BYMONTH=3;BYDAY=-1SU
TZOFFSETFROM:+0000
TZOFFSETTO:+0100
END:DAYLIGHT
END:VTIMEZONE
BEGIN:VEVENT
UID:event_313059@harmonyinspires.org
DTSTART;TZID=Europe/London:20260704T193000
DTEND;TZID=Europe/London:20260704T200000
SUMMARY:Oxford Sings at Schwarzman Centre
DESCRIPTION:The newly-opened Schwarzman Centre for the humanities is celebr
 ating &quot\;Oxford Sings&quot\; on 4th July.\nThe day will open with a Ch
 ildren&#39\;s concert in the morning\, Carmina Burana in the early evening
  and BBC Singers performing The Sacred Veil to close.&nbsp\;\nThere will b
 e also be free &quot\;pop-up&quot\; performances throughout the day. Harmo
 ny InSpires is proud to be part of this wonderful celebration. Come and he
 ar us sing at 7:30pm.\n\nExternal website related to this event: http://ww
 w.schwarzmancentre.ox.ac.uk/theme/oxford-sings-x26q\n\nFor full event deta
 ils\, visit: https://www.harmonyinspires.org/dbpage.php?pg=view&dbase=even
 ts&id=313059
LOCATION:Schwarzman Centre\, 
URL:https://www.harmonyinspires.org/dbpage.php?pg=view&dbase=events&id=3130
 59
END:VEVENT
END:VCALENDAR
