BEGIN:VCALENDAR
VERSION:2.0
PRODID:-//Sabre//Sabre VObject 3.5.3//EN
CALSCALE:GREGORIAN
BEGIN:VTIMEZONE
TZID:Europe/London
BEGIN:STANDARD
TZNAME:GMT
DTSTART:19701025T020000
RRULE:FREQ=YEARLY;BYMONTH=10;BYDAY=-1SU
TZOFFSETFROM:+0100
TZOFFSETTO:+0000
END:STANDARD
BEGIN:DAYLIGHT
TZNAME:BST
DTSTART:19700329T010000
RRULE:FREQ=YEARLY;BYMONTH=3;BYDAY=-1SU
TZOFFSETFROM:+0000
TZOFFSETTO:+0100
END:DAYLIGHT
END:VTIMEZONE
BEGIN:VEVENT
UID:event_209747@harmonyinspires.org
DTSTART;TZID=Europe/London:20260516T153000
DTEND;TZID=Europe/London:20260516T190000
SUMMARY:Newbury Spring Festival 2026   'Big Sing Saturday'
DESCRIPTION:For full event details\, visit: https://www.harmonyinspires.org
 /dbpage.php?pg=view&dbase=events&id=209747
LOCATION:St. John's Church\, St John's Road\, Newbury\, Berkshire RG14 7PY
URL:https://www.harmonyinspires.org/dbpage.php?pg=view&dbase=events&id=2097
 47
END:VEVENT
END:VCALENDAR
